BEGIN:VCALENDAR
VERSION:2.0
PRODID:-//Lindal and Marton Parish Council//Meeting Calendar//EN
CALSCALE:GREGORIAN
METHOD:PUBLISH
BEGIN:VEVENT
UID:70847-20240101@lindalmartonparish.gov.uk
DTSTAMP:20260423T225450Z
DTSTART;VALUE=DATE:20240101
DTEND;VALUE=DATE:20240102
SUMMARY:Council Meetings 2024
DESCRIPTION:Full Council Meeting\nView details: https://lindalmartonparish.gov.uk/meetings/council-meetings-2024/
URL:https://lindalmartonparish.gov.uk/meetings/council-meetings-2024/
END:VEVENT
END:VCALENDAR
