BEGIN:VCALENDAR
VERSION:2.0
PRODID:-//Lindal and Marton Parish Council//Meeting Calendar//EN
CALSCALE:GREGORIAN
METHOD:PUBLISH
BEGIN:VEVENT
UID:70878-20260205@lindalmartonparish.gov.uk
DTSTAMP:20260423T212729Z
DTSTART;VALUE=DATE:20260205
DTEND;VALUE=DATE:20260206
SUMMARY:Council Meeting 5th February 2026
DESCRIPTION:Full Council Meeting\nView details: https://lindalmartonparish.gov.uk/meetings/parish-council-meeting/
URL:https://lindalmartonparish.gov.uk/meetings/parish-council-meeting/
END:VEVENT
END:VCALENDAR
