BEGIN:VCALENDAR
VERSION:2.0
PRODID:-//Lindal and Marton Parish Council//Meeting Calendar//EN
CALSCALE:GREGORIAN
METHOD:PUBLISH
BEGIN:VEVENT
UID:71043-20260305@lindalmartonparish.gov.uk
DTSTAMP:20260423T201820Z
DTSTART;VALUE=DATE:20260305
DTEND;VALUE=DATE:20260306
SUMMARY:Council Meeting 5th March 2026
DESCRIPTION:Full Council Meeting\nView details: https://lindalmartonparish.gov.uk/meetings/council-meeting-march-2026/
URL:https://lindalmartonparish.gov.uk/meetings/council-meeting-march-2026/
END:VEVENT
END:VCALENDAR
