BEGIN:VCALENDAR
VERSION:2.0
PRODID:-//Lindal and Marton Parish Council//Meeting Calendar//EN
CALSCALE:GREGORIAN
METHOD:PUBLISH
BEGIN:VEVENT
UID:71044-20260402@lindalmartonparish.gov.uk
DTSTAMP:20260423T190033Z
DTSTART;VALUE=DATE:20260402
DTEND;VALUE=DATE:20260403
SUMMARY:Council Meeting 2nd April 2026
DESCRIPTION:Full Council Meeting\nView details: https://lindalmartonparish.gov.uk/meetings/council-meeting-2nd-april-2026/
URL:https://lindalmartonparish.gov.uk/meetings/council-meeting-2nd-april-2026/
END:VEVENT
END:VCALENDAR
