BEGIN:VCALENDAR
VERSION:2.0
PRODID:-//Lindal and Marton Parish Council//Meeting Calendar//EN
CALSCALE:GREGORIAN
METHOD:PUBLISH
BEGIN:VEVENT
UID:71045-20260507@lindalmartonparish.gov.uk
DTSTAMP:20260423T173323Z
DTSTART;VALUE=DATE:20260507
DTEND;VALUE=DATE:20260508
SUMMARY:Council AGM 7th May 2026
DESCRIPTION:Full Council Meeting\nView details: https://lindalmartonparish.gov.uk/meetings/council-meeting-7th-may-2026/
URL:https://lindalmartonparish.gov.uk/meetings/council-meeting-7th-may-2026/
END:VEVENT
END:VCALENDAR
