BEGIN:VCALENDAR
VERSION:2.0
PRODID:-//Lindal and Marton Parish Council//Meeting Calendar//EN
CALSCALE:GREGORIAN
METHOD:PUBLISH
BEGIN:VEVENT
UID:71046-20260604@lindalmartonparish.gov.uk
DTSTAMP:20260423T173420Z
DTSTART;VALUE=DATE:20260604
DTEND;VALUE=DATE:20260605
SUMMARY:Council Meeting 4th June 2026
DESCRIPTION:Full Council Meeting\nView details: https://lindalmartonparish.gov.uk/meetings/council-meeting-4th-june-2026/
URL:https://lindalmartonparish.gov.uk/meetings/council-meeting-4th-june-2026/
END:VEVENT
END:VCALENDAR
