BEGIN:VCALENDAR
VERSION:2.0
PRODID:-//Lindal and Marton Parish Council//Meeting Calendar//EN
CALSCALE:GREGORIAN
METHOD:PUBLISH
BEGIN:VEVENT
UID:71047-20260702@lindalmartonparish.gov.uk
DTSTAMP:20260423T185833Z
DTSTART;VALUE=DATE:20260702
DTEND;VALUE=DATE:20260703
SUMMARY:Council Meeting 2nd July 2026
DESCRIPTION:Full Council Meeting\nView details: https://lindalmartonparish.gov.uk/meetings/council-meeting-2nd-july-2026/
URL:https://lindalmartonparish.gov.uk/meetings/council-meeting-2nd-july-2026/
END:VEVENT
END:VCALENDAR
