BEGIN:VCALENDAR
VERSION:2.0
PRODID:-//Lindal and Marton Parish Council//Meeting Calendar//EN
CALSCALE:GREGORIAN
METHOD:PUBLISH
BEGIN:VEVENT
UID:71048-20260806@lindalmartonparish.gov.uk
DTSTAMP:20260423T200827Z
DTSTART;VALUE=DATE:20260806
DTEND;VALUE=DATE:20260807
SUMMARY:Council Meeting 6th August 2026
DESCRIPTION:Full Council Meeting\nView details: https://lindalmartonparish.gov.uk/meetings/council-meeting-6th-august-2026/
URL:https://lindalmartonparish.gov.uk/meetings/council-meeting-6th-august-2026/
END:VEVENT
END:VCALENDAR
