BEGIN:VCALENDAR
VERSION:2.0
PRODID:-//Lindal and Marton Parish Council//Meeting Calendar//EN
CALSCALE:GREGORIAN
METHOD:PUBLISH
BEGIN:VEVENT
UID:71049-20260903@lindalmartonparish.gov.uk
DTSTAMP:20260423T212802Z
DTSTART;VALUE=DATE:20260903
DTEND;VALUE=DATE:20260904
SUMMARY:Council Meeting 3rd September 2026
DESCRIPTION:Full Council Meeting\nView details: https://lindalmartonparish.gov.uk/meetings/council-meeting-3rd-september-2026/
URL:https://lindalmartonparish.gov.uk/meetings/council-meeting-3rd-september-2026/
END:VEVENT
END:VCALENDAR
