BEGIN:VCALENDAR
VERSION:2.0
PRODID:-//Lindal and Marton Parish Council//Meeting Calendar//EN
CALSCALE:GREGORIAN
METHOD:PUBLISH
BEGIN:VEVENT
UID:71051-20261105@lindalmartonparish.gov.uk
DTSTAMP:20260423T212801Z
DTSTART;VALUE=DATE:20261105
DTEND;VALUE=DATE:20261106
SUMMARY:Council Meeting 5th November 2026
DESCRIPTION:Full Council Meeting\nView details: https://lindalmartonparish.gov.uk/meetings/council-meeting-5th-november-2026/
URL:https://lindalmartonparish.gov.uk/meetings/council-meeting-5th-november-2026/
END:VEVENT
END:VCALENDAR
