BEGIN:VCALENDAR
VERSION:2.0
PRODID:-//Lindal and Marton Parish Council//Meeting Calendar//EN
CALSCALE:GREGORIAN
METHOD:PUBLISH
BEGIN:VEVENT
UID:71052-20261203@lindalmartonparish.gov.uk
DTSTAMP:20260423T212729Z
DTSTART;VALUE=DATE:20261203
DTEND;VALUE=DATE:20261204
SUMMARY:Council Meeting 3rd December 2026
DESCRIPTION:Full Council Meeting\nView details: https://lindalmartonparish.gov.uk/meetings/council-meeting-3rd-december-2026/
URL:https://lindalmartonparish.gov.uk/meetings/council-meeting-3rd-december-2026/
END:VEVENT
END:VCALENDAR
