BEGIN:VCALENDAR
VERSION:2.0
PRODID:-//Lindal and Marton Parish Council//Meeting Calendar//EN
CALSCALE:GREGORIAN
METHOD:PUBLISH
BEGIN:VEVENT
UID:71103-20210101@lindalmartonparish.gov.uk
DTSTAMP:20260423T225527Z
DTSTART;VALUE=DATE:20210101
DTEND;VALUE=DATE:20210102
SUMMARY:Council Meetings 2021
DESCRIPTION:Full Council Meeting\nView details: https://lindalmartonparish.gov.uk/meetings/council-meetings-2021/
URL:https://lindalmartonparish.gov.uk/meetings/council-meetings-2021/
END:VEVENT
END:VCALENDAR
